BEGIN:VCALENDAR
VERSION:2.0
PRODID:-//Bischofswerdaer Spielleute e.V. - ECPv6.15.20//NONSGML v1.0//EN
CALSCALE:GREGORIAN
METHOD:PUBLISH
X-ORIGINAL-URL:https://bischofswerdaer-spielleute.de
X-WR-CALDESC:Veranstaltungen für Bischofswerdaer Spielleute e.V.
REFRESH-INTERVAL;VALUE=DURATION:PT1H
X-Robots-Tag:noindex
X-PUBLISHED-TTL:PT1H
BEGIN:VTIMEZONE
TZID:Europe/Berlin
BEGIN:DAYLIGHT
TZOFFSETFROM:+0100
TZOFFSETTO:+0200
TZNAME:CEST
DTSTART:20220327T010000
END:DAYLIGHT
BEGIN:STANDARD
TZOFFSETFROM:+0200
TZOFFSETTO:+0100
TZNAME:CET
DTSTART:20221030T010000
END:STANDARD
BEGIN:DAYLIGHT
TZOFFSETFROM:+0100
TZOFFSETTO:+0200
TZNAME:CEST
DTSTART:20230326T010000
END:DAYLIGHT
BEGIN:STANDARD
TZOFFSETFROM:+0200
TZOFFSETTO:+0100
TZNAME:CET
DTSTART:20231029T010000
END:STANDARD
BEGIN:DAYLIGHT
TZOFFSETFROM:+0100
TZOFFSETTO:+0200
TZNAME:CEST
DTSTART:20240331T010000
END:DAYLIGHT
BEGIN:STANDARD
TZOFFSETFROM:+0200
TZOFFSETTO:+0100
TZNAME:CET
DTSTART:20241027T010000
END:STANDARD
END:VTIMEZONE
BEGIN:VEVENT
DTSTART;VALUE=DATE:20230401
DTEND;VALUE=DATE:20230402
DTSTAMP:20260422T080349
CREATED:20221229T145803Z
LAST-MODIFIED:20221229T145803Z
UID:2022-1680307200-1680393599@bischofswerdaer-spielleute.de
SUMMARY:Geburtstagsfeier in Burkau
DESCRIPTION:
URL:https://bischofswerdaer-spielleute.de/termin/geburtstagsfeier-in-burkau/
LOCATION:Sachsen
END:VEVENT
BEGIN:VEVENT
DTSTART;TZID=Europe/Berlin:20230423T100000
DTEND;TZID=Europe/Berlin:20230423T110000
DTSTAMP:20260422T080349
CREATED:20230323T155354Z
LAST-MODIFIED:20230323T155354Z
UID:2259-1682244000-1682247600@bischofswerdaer-spielleute.de
SUMMARY:30. Jahre Regenbogen e.V. Bischofswerda
DESCRIPTION:
URL:https://bischofswerdaer-spielleute.de/termin/30-jahre-regenbogen-e-v-bischofswerda/
LOCATION:Sachsen
END:VEVENT
BEGIN:VEVENT
DTSTART;TZID=Europe/Berlin:20230430T180000
DTEND;TZID=Europe/Berlin:20230430T190000
DTSTAMP:20260422T080349
CREATED:20221229T145937Z
LAST-MODIFIED:20230323T155914Z
UID:2024-1682877600-1682881200@bischofswerdaer-spielleute.de
SUMMARY:Hexenbrennen Bischofswerda
DESCRIPTION:
URL:https://bischofswerdaer-spielleute.de/termin/hexenbrennen-bischofswerda-2/
LOCATION:Altmarkt Bischofswerda\, Altmarkt\, Bischofswerda\, Sachsen\, 01877\, Deutschland
END:VEVENT
BEGIN:VEVENT
DTSTART;TZID=Europe/Berlin:20230430T190000
DTEND;TZID=Europe/Berlin:20230430T200000
DTSTAMP:20260422T080349
CREATED:20221229T150216Z
LAST-MODIFIED:20230323T155838Z
UID:2027-1682881200-1682884800@bischofswerdaer-spielleute.de
SUMMARY:Hexenbrennen Großdrebnitz - Traditionszug
DESCRIPTION:
URL:https://bischofswerdaer-spielleute.de/termin/hexenbrennen-grossdrebnitz-traditionszug/
LOCATION:Sachsen
END:VEVENT
END:VCALENDAR