BEGIN:VCALENDAR
VERSION:2.0
PRODID:-//Bischofswerdaer Spielleute e.V. - ECPv6.15.20//NONSGML v1.0//EN
CALSCALE:GREGORIAN
METHOD:PUBLISH
X-ORIGINAL-URL:https://bischofswerdaer-spielleute.de
X-WR-CALDESC:Veranstaltungen für Bischofswerdaer Spielleute e.V.
REFRESH-INTERVAL;VALUE=DURATION:PT1H
X-Robots-Tag:noindex
X-PUBLISHED-TTL:PT1H
BEGIN:VTIMEZONE
TZID:Europe/Berlin
BEGIN:DAYLIGHT
TZOFFSETFROM:+0100
TZOFFSETTO:+0200
TZNAME:CEST
DTSTART:20220327T010000
END:DAYLIGHT
BEGIN:STANDARD
TZOFFSETFROM:+0200
TZOFFSETTO:+0100
TZNAME:CET
DTSTART:20221030T010000
END:STANDARD
BEGIN:DAYLIGHT
TZOFFSETFROM:+0100
TZOFFSETTO:+0200
TZNAME:CEST
DTSTART:20230326T010000
END:DAYLIGHT
BEGIN:STANDARD
TZOFFSETFROM:+0200
TZOFFSETTO:+0100
TZNAME:CET
DTSTART:20231029T010000
END:STANDARD
BEGIN:DAYLIGHT
TZOFFSETFROM:+0100
TZOFFSETTO:+0200
TZNAME:CEST
DTSTART:20240331T010000
END:DAYLIGHT
BEGIN:STANDARD
TZOFFSETFROM:+0200
TZOFFSETTO:+0100
TZNAME:CET
DTSTART:20241027T010000
END:STANDARD
END:VTIMEZONE
BEGIN:VEVENT
DTSTART;VALUE=DATE:20230809
DTEND;VALUE=DATE:20230814
DTSTAMP:20260422T155101
CREATED:20221229T151045Z
LAST-MODIFIED:20221229T151045Z
UID:2041-1691539200-1691971199@bischofswerdaer-spielleute.de
SUMMARY:Trainigslager Nachwuchs
DESCRIPTION:
URL:https://bischofswerdaer-spielleute.de/termin/trainigslager-nachwuchs/
LOCATION:Neschwitz\, Kastanienallee 1\, Neschwitz\, Sachsen\, 02699\, Deutschland
END:VEVENT
BEGIN:VEVENT
DTSTART;TZID=Europe/Berlin:20230818T163000
DTEND;TZID=Europe/Berlin:20230818T170000
DTSTAMP:20260422T155101
CREATED:20230716T100757Z
LAST-MODIFIED:20230716T100757Z
UID:2412-1692376200-1692378000@bischofswerdaer-spielleute.de
SUMMARY:Auftritt Freibad Bischofswerda - Nachwuchs
DESCRIPTION:
URL:https://bischofswerdaer-spielleute.de/termin/auftritt-freibad-bischofswerda-nachwuchs/
LOCATION:Sachsen
END:VEVENT
BEGIN:VEVENT
DTSTART;VALUE=DATE:20230824
DTEND;VALUE=DATE:20230825
DTSTAMP:20260422T155101
CREATED:20221229T150918Z
LAST-MODIFIED:20230227T132235Z
UID:2039-1692835200-1692921599@bischofswerdaer-spielleute.de
SUMMARY:Forstfest Kamenz
DESCRIPTION:An diesem Tag haben wir gleich 2 Auftritte beim Kamenzer Forstfest.\nEinmal 13.00 Uhr zum Festumzug und ein weiteres Mal um 20.00 Uhr zum Lampionumzug durch die Lessingstadt Kamenz.
URL:https://bischofswerdaer-spielleute.de/termin/forstfest-kamenz-3/
LOCATION:Sachsen
END:VEVENT
BEGIN:VEVENT
DTSTART;TZID=Europe/Berlin:20230827T133000
DTEND;TZID=Europe/Berlin:20230827T133000
DTSTAMP:20260422T155101
CREATED:20230220T165304Z
LAST-MODIFIED:20230323T160449Z
UID:2224-1693143000-1693143000@bischofswerdaer-spielleute.de
SUMMARY:Festumzug 775 Jahre Elstra
DESCRIPTION:
URL:https://bischofswerdaer-spielleute.de/termin/festumzug-775-jahre-elstra/
LOCATION:Sachsen
END:VEVENT
END:VCALENDAR